BEGIN:VCALENDAR
VERSION:2.0
PRODID:-//Eventin//Event Calendar//EN
CALSCALE:GREGORIAN
METHOD:PUBLISH
BEGIN:VEVENT
UID:c9e1c862be5c785e2bd63c6c68f861b9@local-vines.com
SUMMARY:Meet the Maker: Raisin d'Etre
DESCRIPTION:
LOCATION:Local Vines
DTSTAMP:20260420T092954Z
DTSTART:20260809T210000Z
DTEND:20260809T230000Z
END:VEVENT
END:VCALENDAR
