BEGIN:VCALENDAR
VERSION:2.0
PRODID:-//Eventin//Event Calendar//EN
CALSCALE:GREGORIAN
METHOD:PUBLISH
BEGIN:VEVENT
UID:bddfb5279855749be92f0661abb33630@local-vines.com
SUMMARY:Make your own cider workshop with Mount Diablo Cidery
DESCRIPTION:Details are fermenting...check back later!
LOCATION:Local Vines
DTSTAMP:20260420T123939Z
DTSTART:20260830T190000Z
DTEND:20260830T230000Z
END:VEVENT
END:VCALENDAR
