BEGIN:VCALENDAR
VERSION:2.0
PRODID:-//Eventin//Event Calendar//EN
CALSCALE:GREGORIAN
METHOD:PUBLISH
BEGIN:VEVENT
UID:bdefd4dac98aabadae7db7778cf86b30@local-vines.com
SUMMARY:Meet the Maker: Reliez Valley
DESCRIPTION:
LOCATION:Local Vines
DTSTAMP:20260424T090105Z
DTSTART:20260927T210000Z
DTEND:20260927T230000Z
END:VEVENT
END:VCALENDAR
